BEGIN:VCALENDAR
VERSION:2.0
PRODID:-//De Spil Reeuwijk - ECPv5.16.4//NONSGML v1.0//EN
CALSCALE:GREGORIAN
METHOD:PUBLISH
X-WR-CALNAME:De Spil Reeuwijk
X-ORIGINAL-URL:https://despil-reeuwijk.nl
X-WR-CALDESC:Evenementen voor De Spil Reeuwijk
BEGIN:VTIMEZONE
TZID:Europe/Amsterdam
BEGIN:DAYLIGHT
TZOFFSETFROM:+0100
TZOFFSETTO:+0200
TZNAME:CEST
DTSTART:20250330T010000
END:DAYLIGHT
BEGIN:STANDARD
TZOFFSETFROM:+0200
TZOFFSETTO:+0100
TZNAME:CET
DTSTART:20251026T010000
END:STANDARD
END:VTIMEZONE
BEGIN:VEVENT
DTSTART;TZID=Europe/Amsterdam:20250219T140000
DTEND;TZID=Europe/Amsterdam:20250219T160000
DTSTAMP:20260422T110807
CREATED:20241216T112100Z
LAST-MODIFIED:20241216T112100Z
UID:15383-1739973600-1739980800@despil-reeuwijk.nl
SUMMARY:Handwerken
DESCRIPTION:
URL:https://despil-reeuwijk.nl/activiteit/handwerken-7/2025-02-19/
LOCATION:Dienstencentrum De Spil\, Poelruit 12\, Reeuwijk\, 2811 SX\, Nederland
END:VEVENT
END:VCALENDAR